BEGIN:VCALENDAR
VERSION:2.0
PRODID:-//Talks.cam//talks.cam.ac.uk//
X-WR-CALNAME:Talks.cam
BEGIN:VEVENT
SUMMARY:Faster Matlab scripts - Tim Love (Cambridge University)
DTSTART:20070119T150000Z
DTEND:20070119T160000Z
UID:TALK6050@talks.cam.ac.uk
CONTACT:Tim Love
DESCRIPTION:Some simple ways to improve the speed of matlab programs
LOCATION:LT0\, Engineering Department
END:VEVENT
END:VCALENDAR
