BEGIN:VCALENDAR
VERSION:2.0
PRODID:-//Talks.cam//talks.cam.ac.uk//
X-WR-CALNAME:Talks.cam
BEGIN:VEVENT
SUMMARY:Creating Solidarity by Making Bodies Alike\, but Creating Hierarch
 y in Physical Dimensions - Professor Alan Fiske\, Department of Anthropolo
 gy\, University of California\, Los Angeles USA
DTSTART:20151016T153000Z
DTEND:20151016T170000Z
UID:TALK60553@talks.cam.ac.uk
CONTACT:Louise White
DESCRIPTION:Abstract not available
LOCATION:Ground Floor Lecture Theatre\, Department of Psychology
END:VEVENT
END:VCALENDAR
