BEGIN:VCALENDAR
VERSION:2.0
PRODID:-//Talks.cam//talks.cam.ac.uk//
X-WR-CALNAME:Talks.cam
BEGIN:VEVENT
SUMMARY:Glennis Julian and Chris Jiggins  -  
DTSTART:20150915T090000Z
DTEND:20150915T103000Z
UID:TALK60889@talks.cam.ac.uk
CONTACT:Markus Möst
DESCRIPTION: 
LOCATION:First Floor Seminar Room\, Department of Zoology
END:VEVENT
END:VCALENDAR
