BEGIN:VCALENDAR
VERSION:2.0
PRODID:-//Talks.cam//talks.cam.ac.uk//
X-WR-CALNAME:Talks.cam
BEGIN:VEVENT
SUMMARY:Internal BPI Welcome Seminars - BP Institute internal seminar
DTSTART:20151022T103000Z
DTEND:20151022T113000Z
UID:TALK60910@talks.cam.ac.uk
CONTACT:Catherine Pearson
DESCRIPTION:Abstract not available
LOCATION:Open Plan Area\, BP Institute\, Madingley Rise CB3 0EZ
END:VEVENT
END:VCALENDAR
