BEGIN:VCALENDAR
VERSION:2.0
PRODID:-//Talks.cam//talks.cam.ac.uk//
X-WR-CALNAME:Talks.cam
BEGIN:VEVENT
SUMMARY:Precursors and properties of small earthquakes in California - Dr 
 Jessica Hawthorne\, University of Leeds
DTSTART:20151118T160000Z
DTEND:20151118T170000Z
UID:TALK61079@talks.cam.ac.uk
CONTACT:David Al-Attar
DESCRIPTION:Abstract not available
LOCATION:Marine/Wolfson Building lecture hall
END:VEVENT
END:VCALENDAR
