BEGIN:VCALENDAR
VERSION:2.0
PRODID:-//Talks.cam//talks.cam.ac.uk//
X-WR-CALNAME:Talks.cam
BEGIN:VEVENT
SUMMARY:Meta-Bayesian Analysis - Prof. Daniel Roy (University of Toronto)
DTSTART:20151015T100000Z
DTEND:20151015T110000Z
UID:TALK61126@talks.cam.ac.uk
CONTACT:Zoubin Ghahramani
DESCRIPTION:What is the meaning of a prior in a misspecified model?  We gi
 ve a subjective interpretation to the problem of choosing a prior by casti
 ng it into the Bayesian decision theoretic framework.  I'll discuss some p
 reliminary results.
LOCATION:Engineering Department\, CBL Room BE-438
END:VEVENT
END:VCALENDAR
