BEGIN:VCALENDAR
VERSION:2.0
PRODID:-//Talks.cam//talks.cam.ac.uk//
X-WR-CALNAME:Talks.cam
BEGIN:VEVENT
SUMMARY:Energy efficiency and rebound effect in road transport: Applicatio
 ns to the cases of Latin America\, the Caribbean and Europe  - Manuel Llor
 ca-Riego\, Durham Business School
DTSTART:20151110T123000Z
DTEND:20151110T140000Z
UID:TALK61480@talks.cam.ac.uk
CONTACT:41798
DESCRIPTION:Abstract not available
LOCATION:Meade Room\, Faculty of Economics\, Cambridge
END:VEVENT
END:VCALENDAR
