BEGIN:VCALENDAR
VERSION:2.0
PRODID:-//Talks.cam//talks.cam.ac.uk//
X-WR-CALNAME:Talks.cam
BEGIN:VEVENT
SUMMARY:John Davey and Erik Clark -  
DTSTART:20151013T090000Z
DTEND:20151013T103000Z
UID:TALK61838@talks.cam.ac.uk
CONTACT:Markus Möst
DESCRIPTION: 
LOCATION:First Floor Seminar Room\, Department of Zoology
END:VEVENT
END:VCALENDAR
