BEGIN:VCALENDAR
VERSION:2.0
PRODID:-//Talks.cam//talks.cam.ac.uk//
X-WR-CALNAME:Talks.cam
BEGIN:VEVENT
SUMMARY:Markus Möst and Chris Jiggins -  
DTSTART:20151020T090000Z
DTEND:20151020T103000Z
UID:TALK61892@talks.cam.ac.uk
CONTACT:Markus Möst
DESCRIPTION: 
LOCATION:First Floor Seminar Room\, Department of Zoology
END:VEVENT
END:VCALENDAR
