BEGIN:VCALENDAR
VERSION:2.0
PRODID:-//Talks.cam//talks.cam.ac.uk//
X-WR-CALNAME:Talks.cam
BEGIN:VEVENT
SUMMARY:Humanitarian Technologies - Dr Mirca Madianou (Media and Communica
 tions\, Goldsmiths) &amp\; Dr Jonathan Ong (Media and Communication\, Leic
 ester)
DTSTART:20160211T140000Z
DTEND:20160211T153000Z
UID:TALK61960@talks.cam.ac.uk
CONTACT:Ella McPherson
DESCRIPTION:For more details and to register\, please click "here":http://
 www.eventbrite.com/e/humanitarian-technologies-tickets-19113299393?aff=aff
 iliate1
LOCATION:Seminar room\, Sociology Department\, Free School Lane 
END:VEVENT
END:VCALENDAR
