BEGIN:VCALENDAR
VERSION:2.0
PRODID:-//Talks.cam//talks.cam.ac.uk//
X-WR-CALNAME:Talks.cam
BEGIN:VEVENT
SUMMARY:Emotion and mental imagery: from experiments to therapeutic applic
 ations - Emily Holmes\, MRC Cognition and Brain Science Unit
DTSTART:20151123T160000Z
DTEND:20151123T173000Z
UID:TALK61978@talks.cam.ac.uk
CONTACT:Deborah McSkimming
DESCRIPTION:Abstract not available
LOCATION:Nick Mackintosh Seminar Room\, Department of Psychology\, Downing
  Site\, Cambridge
END:VEVENT
END:VCALENDAR
