BEGIN:VCALENDAR
VERSION:2.0
PRODID:-//Talks.cam//talks.cam.ac.uk//
X-WR-CALNAME:Talks.cam
BEGIN:VEVENT
SUMMARY:Jonathan Bell: Rethinking the &quot\;Straight State&quot\;: Welfar
 e Politics\, Health Care\, and Public Policy in the Shadow of AIDS - Profe
 ssor Jonathan Bell\, University College London
DTSTART:20151109T170000Z
DTEND:20151109T190000Z
UID:TALK62278@talks.cam.ac.uk
CONTACT:Jonathan Goodwin
DESCRIPTION:Discussion will be based on a pre-circulated paper\n\nFor furt
 her details visit: https://www.hist.cam.ac.uk/seminars/american-history-se
 minar
LOCATION:Knox Shaw Room\, Sidney Sussex College
END:VEVENT
END:VCALENDAR
