BEGIN:VCALENDAR
VERSION:2.0
PRODID:-//Talks.cam//talks.cam.ac.uk//
X-WR-CALNAME:Talks.cam
BEGIN:VEVENT
SUMMARY:Catholic visions of democratic world order in the 1940 - Or Rosenb
 oim
DTSTART:20151110T150000Z
DTEND:20151110T163000Z
UID:TALK62343@talks.cam.ac.uk
CONTACT:Or Rosenboim
DESCRIPTION:Abstract not available
LOCATION:Queens' College\, room DD48
END:VEVENT
END:VCALENDAR
