BEGIN:VCALENDAR
VERSION:2.0
PRODID:-//Talks.cam//talks.cam.ac.uk//
X-WR-CALNAME:Talks.cam
BEGIN:VEVENT
SUMMARY:&quot\;Although the holes were rather small/ They had to count the
 m all&quot\;: An integrative analysis of cellular architecture and leaf fu
 nction - Andrew Flemming\, University of Sheffield (Sabbatical visitor at 
 SLCU)
DTSTART:20160113T160000Z
DTEND:20160113T170000Z
UID:TALK62558@talks.cam.ac.uk
CONTACT:Helen Mawdsley
DESCRIPTION:Abstract not available
LOCATION:Auditorium of The Sainsbury Laboratory (Bateman Street)
END:VEVENT
END:VCALENDAR
