BEGIN:VCALENDAR
VERSION:2.0
PRODID:-//Talks.cam//talks.cam.ac.uk//
X-WR-CALNAME:Talks.cam
BEGIN:VEVENT
SUMMARY:'Narkomen: Heroin Addiction in the Silk' Road - 37 mins\, in Russi
 an with English subtitles) - Malgorzata Skowronska And Matt Traver 
DTSTART:20151130T150000Z
DTEND:20151130T170000Z
UID:TALK62742@talks.cam.ac.uk
CONTACT:Prajakti Kalra
DESCRIPTION:The small village of Porshniev in the Pamir Mountains of Tajik
 istan's Gorno-Badakhshan Autonomous Province harbours an endemic heroin pr
 oblem\, much like many other isolated communities in this landlocked Centr
 al Asian nation. Narkomen explores the issues and impacts surrounding narc
 otic abuse in the region through the life stories of Mamadkhan and Mirzo\,
  two addicts struggling to free themselves from the grip of heroin.\n\nPro
 ducers:\nMalgorzata Skowronska has completed Masters at the Department of 
 War Studies. Her academic interests focus on organised crime and drug trad
 e in Central Asia. She has travelled extensively in the region and speaks 
 Polish\, Russian and English. She currently works in compliance and anti-m
 oney laundering. \n\nMatt Traver is a Hong Kong-born British-American film
 maker. He has recently completed 'Tales from the Steppe'\, a collection of
  five films shot in Central Asia which have since screened at fourteen fes
 tivals throughout Europe and the US. More information at www.matthewtraver
 .com\n
LOCATION: Room S2\, Alison Richard Building\, 7 West Road\, Cambridge\, CB
 3 9DT
END:VEVENT
END:VCALENDAR
