BEGIN:VCALENDAR
VERSION:2.0
PRODID:-//Talks.cam//talks.cam.ac.uk//
X-WR-CALNAME:Talks.cam
BEGIN:VEVENT
SUMMARY:Dr Jane Goodall: How can I modify dendritic cell biology? A lesson
  from TSLP - Dr Jane Goodall\, Department of Medicine\, Cambridge
DTSTART:20160217T123000Z
DTEND:20160217T133000Z
UID:TALK62871@talks.cam.ac.uk
CONTACT:Sue Griffin
DESCRIPTION:Abstract not available
LOCATION:Lecture Theatre\, Department of Pathology\, Tennis Court Road
END:VEVENT
END:VCALENDAR
