BEGIN:VCALENDAR
VERSION:2.0
PRODID:-//Talks.cam//talks.cam.ac.uk//
X-WR-CALNAME:Talks.cam
BEGIN:VEVENT
SUMMARY:Title to be confirmed - Inka Borchers
DTSTART:20070629T120000Z
DTEND:20070629T123000Z
UID:TALK6297@talks.cam.ac.uk
CONTACT:3923
DESCRIPTION:Abstract not available
LOCATION:Department of Plant Sciences\, Large Lecture Theatre
END:VEVENT
END:VCALENDAR
