BEGIN:VCALENDAR
VERSION:2.0
PRODID:-//Talks.cam//talks.cam.ac.uk//
X-WR-CALNAME:Talks.cam
BEGIN:VEVENT
SUMMARY:Internal BPI Seminars - TBC
DTSTART:20160310T113000Z
DTEND:20160310T123000Z
UID:TALK63453@talks.cam.ac.uk
CONTACT:Catherine Pearson
DESCRIPTION:Iran Neto — Mixing by Bubble Plumes\n(Iran is an academic vi
 sitor from Brazil\, working with Silvana and AW for the year\, and\nis int
 erested in problems relating to water reservoir mixing)\n\nMartin Lippert 
  — Experiments on Bubble Fountains\n(Martin is first-year\, working for 
 a PhD in the BPI with AW\, with an interest in the mechanisms\nof air entr
 ainment into engine oil)
LOCATION:Open Plan Area\, BP Institute\, Madingley Rise CB3 0EZ
END:VEVENT
END:VCALENDAR
