BEGIN:VCALENDAR
VERSION:2.0
PRODID:-//Talks.cam//talks.cam.ac.uk//
X-WR-CALNAME:Talks.cam
BEGIN:VEVENT
SUMMARY:Sarah Miller-Davenport: The Power of Mutual Understanding: Teachin
 g 'New Modes of Life' in Post-Statehood Hawai'i - Speaker to be confirmed
DTSTART:20160222T170000Z
DTEND:20160222T190000Z
UID:TALK63623@talks.cam.ac.uk
CONTACT:Jonathan Goodwin
DESCRIPTION:Discussion will be based on a pre-circulated paper.\n\nComment
 ator: Seth Archer\, University of Cambridge
LOCATION:Knox Shaw Room\, Sidney Sussex College
END:VEVENT
END:VCALENDAR
