BEGIN:VCALENDAR
VERSION:2.0
PRODID:-//Talks.cam//talks.cam.ac.uk//
X-WR-CALNAME:Talks.cam
BEGIN:VEVENT
SUMMARY:'On the syntactic encoding of exclamation in Ibero-Romance' - Alic
 e Corr\, University of Cambridge\, DTAL
DTSTART:20160127T130000Z
DTEND:20160127T140000Z
UID:TALK63926@talks.cam.ac.uk
CONTACT:Norma Schifano
DESCRIPTION:Abstract not available
LOCATION:Lecture Block Room 8 (Sidgwick site)
END:VEVENT
END:VCALENDAR
