BEGIN:VCALENDAR
VERSION:2.0
PRODID:-//Talks.cam//talks.cam.ac.uk//
X-WR-CALNAME:Talks.cam
BEGIN:VEVENT
SUMMARY:[CANCELLED] Towards optimal estimation of the galaxy power spectru
 m [CANCELLED]  - Robert Smith (Sussex)
DTSTART:20160201T130000Z
DTEND:20160201T140000Z
UID:TALK63977@talks.cam.ac.uk
CONTACT:Tommaso Giannantonio
DESCRIPTION:Seminar cancelled by the speaker.
LOCATION:CMS\, Pav. B\, CTC Common Room (B1.19) [Potter Room]
END:VEVENT
END:VCALENDAR
