BEGIN:VCALENDAR
VERSION:2.0
PRODID:-//Talks.cam//talks.cam.ac.uk//
X-WR-CALNAME:Talks.cam
BEGIN:VEVENT
SUMMARY:High-precision cosmology and the nature of dark matter - Julien Le
 sgourgues (CERN &amp\; RWTH Aachen)
DTSTART:20160229T130000Z
DTEND:20160229T140000Z
UID:TALK63981@talks.cam.ac.uk
CONTACT:Tommaso Giannantonio
DESCRIPTION:The latest data of the Planck satellite\, combined with other 
 observations of the large-scale structure of the Universe\, is only compat
 ible with very small deviations from the minimal standard cosmological mod
 el (LambdaCDM). Still\, in these small deviations\, there would be room fo
 r interesting effects related to particle physics models. I will focus on 
 several Dark Matter properties that can be constrained by current data\, a
 nd may be tested with the next generation of cosmological surveys.
LOCATION:CMS\, Pav. B\, CTC Common Room (B1.19) [Potter Room]
END:VEVENT
END:VCALENDAR
