BEGIN:VCALENDAR
VERSION:2.0
PRODID:-//Talks.cam//talks.cam.ac.uk//
X-WR-CALNAME:Talks.cam
BEGIN:VEVENT
SUMMARY:&quot\;Schwann cell reprogramming in peripheral nerve repair&quot\
 ; - Mr Peter Arthur-Farraj\, Norwich University Hospital\, UK
DTSTART:20160202T120000Z
DTEND:20160202T130000Z
UID:TALK63995@talks.cam.ac.uk
CONTACT:Shannon Tinley-Browne
DESCRIPTION:Abstract not available
LOCATION:Brain Repair Centre\, Forvie Site\, Robinson Way
END:VEVENT
END:VCALENDAR
