BEGIN:VCALENDAR
VERSION:2.0
PRODID:-//Talks.cam//talks.cam.ac.uk//
X-WR-CALNAME:Talks.cam
BEGIN:VEVENT
SUMMARY:i2®©:  Investigative &amp\; Interpretative Radiochemistry - The 
 basis of Nuclear Forensic Science - Paul Thompson\, AWE
DTSTART:20160211T163000Z
DTEND:20160211T180000Z
UID:TALK63999@talks.cam.ac.uk
CONTACT:Jo Boyle
DESCRIPTION:The lecture steps through the development of the science of ra
 diochemistry since its discovery around the beginning of the twentieth cen
 tury to the modern age.  The emphasis of the talk is on how the developmen
 ts in radiochemistry through the decades enabled it to address a variety o
 f areas\, and how it is to be used to address the latest challenge offered
  by the need for of nuclear forensics.
LOCATION:Department of Engineering - LR6
END:VEVENT
END:VCALENDAR
