BEGIN:VCALENDAR
VERSION:2.0
PRODID:-//Talks.cam//talks.cam.ac.uk//
X-WR-CALNAME:Talks.cam
BEGIN:VEVENT
SUMMARY:A meta-analysis of working memory impairments in survivors of a mo
 derate-severe traumatic brain injury - Darren Dunning\, MRC Cognition and 
 Brain Sciences Unit
DTSTART:20160217T123000Z
DTEND:20160217T133000Z
UID:TALK64060@talks.cam.ac.uk
CONTACT:Deborah McSkimming
DESCRIPTION:Abstract not available
LOCATION:Lecture Theatre\, MRC Cognition and Brain Sciences Unit\, Chaucer
  Road
END:VEVENT
END:VCALENDAR
