BEGIN:VCALENDAR
VERSION:2.0
PRODID:-//Talks.cam//talks.cam.ac.uk//
X-WR-CALNAME:Talks.cam
BEGIN:VEVENT
SUMMARY:Local heat of the IOM3 Young Persons Lecture Competition - Speaker
  to be confirmed
DTSTART:20160128T180000Z
DTEND:20160128T200000Z
UID:TALK64093@talks.cam.ac.uk
CONTACT:Ismael Moreno-Gomez
DESCRIPTION:The local heat of the IOM3 Young Persons Lecture Competition w
 ill take place on Thursday 28th January at 6pm in the Department of Materi
 als Science & Metallurgy\, Goldsmiths' Room 1 (our usual venue) followed b
 y light refreshments.  I look forward to seeing many of you there to enjoy
  an evening of interesting short lectures in some of the most interesting 
 materials science topics.
LOCATION:Department of Materials Science and Metallurgy\, 27 Charles Babba
 ge Road\, Cambridge. CB3 0FS
END:VEVENT
END:VCALENDAR
