BEGIN:VCALENDAR
VERSION:2.0
PRODID:-//Talks.cam//talks.cam.ac.uk//
X-WR-CALNAME:Talks.cam
BEGIN:VEVENT
SUMMARY:Music as Communication: An Evolutionary Story - Elizabeth Tolbert.
  Johns Hopkins University &amp\; Cambridge Centre for Music and Science
DTSTART:20160216T130000Z
DTEND:20160216T143000Z
UID:TALK64525@talks.cam.ac.uk
CONTACT:3548
DESCRIPTION:Abstract not available
LOCATION:LCHES Seminar Room\, Leverhulme Centre for Human Evolutionary Stu
 dies\, Fitzilliam Street
END:VEVENT
END:VCALENDAR
