BEGIN:VCALENDAR
VERSION:2.0
PRODID:-//Talks.cam//talks.cam.ac.uk//
X-WR-CALNAME:Talks.cam
BEGIN:VEVENT
SUMMARY:3D Printing in Disaster Zones: Help or Hindrance? - Centre for Glo
 bal Equality\, MakeSpace and Field Ready
DTSTART:20160316T180000Z
DTEND:20160316T200000Z
UID:TALK64527@talks.cam.ac.uk
CONTACT:Centre For Global Equality
DESCRIPTION:In humanitarian disasters the simplest things can be expensive
  and hard to get. Supplies are flown in\, cleared by customs\, stockpiled 
 and distributed by many organisations. Bottlenecks abound\, costs rise\, d
 elays increase. Could these challenges be reduced by making certain suppli
 es locally using 3D printing? What might be the opportunities and the dang
 ers? Join the Centre for Global Equality\, MakeSpace and Field Ready at th
 e Cambridge Science Festival for a discussion and some hands-on experience
 .\n\nFor more information about this and other events taking place during 
 the Cambridge Science Festival\, please visit the Festival's website: http
 ://www.sciencefestival.cam.ac.uk/. You can book your seat for this free ta
 lk at https://www.eventbrite.co.uk/e/3d-printing-in-disaster-zones-help-or
 -hindrance-tickets-21347757718.
LOCATION:Makespace Cambridge\, 16 Mill Lane\, CB2 1RX
END:VEVENT
END:VCALENDAR
