BEGIN:VCALENDAR
VERSION:2.0
PRODID:-//Talks.cam//talks.cam.ac.uk//
X-WR-CALNAME:Talks.cam
BEGIN:VEVENT
SUMMARY:Advanced Lecture1 (Part I): Narrow escape theory\, first passage t
 ime to a small hole and applications to modelling cell biology processes -
  David Holcman (CNRS - Ecole Normale Superieure Paris)
DTSTART:20160121T110000Z
DTEND:20160121T114500Z
UID:TALK64663@talks.cam.ac.uk
CONTACT:INI IT
DESCRIPTION:This is a fast 45 minutes tutorial of the passage time and nar
 row escape theory with various application in cell biology. <br>Asymptotic
  method for the Laplace equation\, boundary layer analysis\, Dire strait t
 ime and Brownian motion in cusp geometry.<br>
LOCATION:Seminar Room 1\, Newton Institute
END:VEVENT
END:VCALENDAR
