BEGIN:VCALENDAR
VERSION:2.0
PRODID:-//Talks.cam//talks.cam.ac.uk//
X-WR-CALNAME:Talks.cam
BEGIN:VEVENT
SUMMARY:Lecture 5: (U. of Cambridge): Activation escape through a potentia
 l well. - David Holcman (CNRS - Ecole Normale Superieure Paris\; Universit
 y of Cambridge)
DTSTART:20160304T143000Z
DTEND:20160304T170000Z
UID:TALK64802@talks.cam.ac.uk
CONTACT:INI IT
DESCRIPTION:<span>Asymptotic computation for the escape time through a bar
 rier.&nbsp\; <br>Singular perturbation of the second order operator. <br><
 /span>  D. Holcman  <br><br><br><br>
LOCATION:Seminar Room 2\, Newton Institute
END:VEVENT
END:VCALENDAR
