BEGIN:VCALENDAR
VERSION:2.0
PRODID:-//Talks.cam//talks.cam.ac.uk//
X-WR-CALNAME:Talks.cam
BEGIN:VEVENT
SUMMARY:Developing antibiotic alternatives: A discussion of new approaches
  to overcoming antimicrobial resistance  - Speaker to be confirmed
DTSTART:20161108T090000Z
DTEND:20161108T170000Z
UID:TALK64835@talks.cam.ac.uk
CONTACT:Speaker to be confirmed
DESCRIPTION:In the face of rising levels of antibiotic resistance\, this i
 nternational event will explore alternative strategies to infection contro
 l.
LOCATION:Online
END:VEVENT
END:VCALENDAR
