BEGIN:VCALENDAR
VERSION:2.0
PRODID:-//Talks.cam//talks.cam.ac.uk//
X-WR-CALNAME:Talks.cam
BEGIN:VEVENT
SUMMARY:Neoliberal trajectories of urban planning and development: the cas
 e of Poland - Dr Barbara Havel\, Warsaw University of Technology
DTSTART:20160309T160000Z
DTEND:20160309T170000Z
UID:TALK64873@talks.cam.ac.uk
CONTACT:Clare Eaves
DESCRIPTION:Neoliberalism has recently become a topic of vivid interest wi
 thin planning theory. The theory of accounts of neoliberalization of urban
  policymaking and planning highlights the temporal and spatial variegation
  of neoliberalism focusing upon the evolutionary processes of a plurality 
 of Western capitalisms. Eastern Europe has recently become a subject of in
 -depth comparative studies into the diversity of capitalism (Jasiecki 2013
 ). This paper presents how the concept of neoliberalism shaped trajectorie
 s of urban planning and development in Poland. Several factors that define
  the ‘new’ capitalism in Poland will be used in an analysis of plannin
 g and urban development. Among them special attention will be paid to path
 s of leaving the idea of communism and manifestations of its heritage\, th
 e state as a regulator of institutional changes\, a deficit of capital (in
 vestment capital\, social capital\, etc.)\, the main actors creating the n
 ew system\, the influence of internationalization of the economy on change
 s of the system (including the role of foreign investors and the membershi
 p in the EU). The influence of the doctrine of the ‘property rights’ s
 chool will also be discussed. The subject will be analysed in context of a
  balance between public and private rights to land\, their relation to val
 ue capture and compensation\, the right to develop and restitution of prop
 erty rights.\n\n\nBiography\n\n\nBarbara Havel is an Assistant Professor a
 t the Department of Spatial Management and Environmental Sciences\, Warsaw
  University of Technology\, Poland and Adjunct Associate Professor in the 
 Department of Landscape Architecture and Spatial Planning\, Norwegian Univ
 ersity of Life Sciences\, Norway. Prior to that she was Mellon Postdoctora
 l Fellow in Climate Change\, Property and Sustainability at the University
  of Cambridge\, Department of Land Economy and teaching researcher at Aalt
 o University\, Finland.  She holds a PhD degree in the research field of r
 eal estate economics from Aalto University and MSc in architecture and urb
 an planning/design from Warsaw University of Technology. Her current resea
 rch projects contain neoliberal trajectories of urban planning and develop
 ment in Poland after 1989\, urban planning as a tool to deliver public pol
 icy objectives of the Europe 2020 strategy and comparative research on the
  scope of rights and liabilities in urban development processes and planni
 ng systems - value capture and compensation\, the right to develop.
LOCATION:Mill Lane Lecture Room 1
END:VEVENT
END:VCALENDAR
