BEGIN:VCALENDAR
VERSION:2.0
PRODID:-//Talks.cam//talks.cam.ac.uk//
X-WR-CALNAME:Talks.cam
BEGIN:VEVENT
SUMMARY:Motivating language learners: the role of assessment - Neil Jones 
 (Cambridge ESOL)
DTSTART:20070412T143000Z
DTEND:20070412T160000Z
UID:TALK6508@talks.cam.ac.uk
CONTACT:5017
DESCRIPTION:This seminar looks at the Asset Languages project and how it i
 mplements good practice in assessment based on aspects of the successful E
 SOL model. It discusses how this approach might help to engender positive 
 attitudes towards language learning in the UK.
LOCATION:Hughes Hall\, Mortimer Road\, Cambridge\, UK
END:VEVENT
END:VCALENDAR
