BEGIN:VCALENDAR
VERSION:2.0
PRODID:-//Talks.cam//talks.cam.ac.uk//
X-WR-CALNAME:Talks.cam
BEGIN:VEVENT
SUMMARY:Frugal Innovation for the Developing World - Jack Lang\, co-founde
 r and Vice-Chair of Raspberry Pi\; Jaideep Prabhu\, co-author of the accla
 imed book &quot\;Frugal Innovation: How to do more with less&quot\;\; Rich
 ard Bowman\, co-founder of Waterscope
DTSTART:20160315T180000Z
DTEND:20160315T210000Z
UID:TALK65107@talks.cam.ac.uk
CONTACT:Jack Lang
DESCRIPTION:Frugal innovation is revolutionising business and reshaping ma
 nagement thinking. Developing countries need reliable products to solve ve
 ry complex issues\, and these products often need to do very simple\, yet 
 clever tasks. At our event\, participants from business\, industry and aca
 demia will explore the newest disruptive ideas being adopted in the develo
 ping world\, the need for many companies to be based in developing countri
 es\, and how we can achieve a better\, fairer and healthier world through 
 technological innovation.\nOur speakers include:\n \nJack Lang\, co-founde
 r and Vice-Chair of Raspberry Pi.\n \nJaideep Prabhu\, co-author of the ac
 claimed book "Frugal Innovation: How to do more with less"\, published by 
 The Economist.\n \nNalin Patel\, head of the Winton Programme for the Phys
 ics of the Sustainability.\n \nRichard Bowman\, co-founder of Waterscope\n
  \nFree registration here:\nhttp://bit.ly/1RlosHX 
LOCATION:Cambidge Judge Business School
END:VEVENT
END:VCALENDAR
