BEGIN:VCALENDAR
VERSION:2.0
PRODID:-//Talks.cam//talks.cam.ac.uk//
X-WR-CALNAME:Talks.cam
BEGIN:VEVENT
SUMMARY:First Intestinal Epithelial Research Symposium - Scientific organi
 sers: Zilbauer Group (University of Cambridge\, Department of Paediatrics)
DTSTART:20160421T073000Z
DTEND:20160421T160000Z
UID:TALK65165@talks.cam.ac.uk
CONTACT:Komal Nayak
DESCRIPTION:This one-day symposium aims to bring together Cambridge based 
 researchers and scientists with an interest in the intestinal epithelium. 
 In addition to presenting current work\, share experiences and highlight f
 uture perspectives\, there will be plenty of opportunities to network and 
 connect. We hope that this meeting will become a regular annual event and 
 provide a platform to generate ideas and build new collaborations. \n\n*Co
 nfirmed speakers include:*\n* Douglas Winton (CRUK Cambridge Institute)\n*
  Ludovic Vallier (Cambridge Stem Cell Institute)\n* Bon-Kyoung Koo (Cambri
 dge Stem Cell Institute)\n* Simon Buczacki (CRUK Cambridge Institute)\n* P
 atrick Varga-Weisz (Babraham Institute)\n* Marc Veldhoen (Babraham Institu
 te)\n* Matthias Zilbauer (Department of Paediatrics\,CU)\n\n*Main topics c
 overed:*   \n* Intestinal stem cells and cancer development \n* Intestinal
  epithelial organoid culture models\n* Genome editing of intestinal epithe
 lial organoids\n* Epigenetic regulation of intestinal epithelial cell func
 tion\n* Host gut epithelium-microbe interactions\n\n*Register by 6th April
  2016:* \n"First Intestinal Epithelial Research Symposium":http://onlinesa
 les.admin.cam.ac.uk/browse/extra_info.asp?compid=1&modid=2&deptid=349&cati
 d=1185&prodid=1597\n\nContact: Matthias Zilbauer (mz304@medschl.cam.ac.uk)
 \n\n*Preliminary Programme:*									\n* *8.30 - 9.00	Registration and Cof
 fee* 							\n* *9.00 Welcome* - Matthias Zilbauer \n* *9.10* tbd\, *Dougl
 as Winton* Cancer Research UK  Cambridge Institute\n* *9.50* "Toenails to 
 tumours: targeting quiescent intestinal cancer stem cell"\, *Simon Buczack
 i* Cancer Research UK Cambridge Institute\n* *10.30 - 11.00 Coffee Break*	
 								\n* *11.00* “Stomach stem cells in homeostatic turnover of adult
  stomach epithelium”\, *Bon-Kyoung Koo* Wellcome Trust - MRC Stem Cell I
 nstitute	\n* *11.40* “DNA methylation in the human intestinal   epitheli
 um during development and paediatric IBD”\, *Matthias Zilbauer* Departme
 nt of Paediatrics\, University of Cambridge\n* *12.20* “Chromatin remode
 ling and intestinal homeostasis”\, *Patrick Vagar-Weisz* Nuclear Dynamic
 s\, Babraham Institute				\n* *13.00 - 14.00 Lunch Break*									 \n* *14
 .00* "Epithelial barriers: maintaining and directing T cell responses"\, *
 Marc Veldhoen* Laboratory for Lymphocyte Signalling and Development\, Babr
 aham Institute\n* *14.40* “Developing hIPSC-derived intestinal organoids
  as an infection model for Salmonella”\, *Jessica Forbester* Wellcome Tr
 ust Sanger Institute\n* *15.00* “Role of enteroendocrine L-cells in Argi
 nine Vasopressin- mediated inhibition of colonic anion secretion”\, *Ram
 ona Pais* Wellcome Trust - MRC Institute of Metabolic Science		\n* *15.20*
  Information from our Sponsors							\n* *15.30 - 16.00 Coffee Break*					
 				\n* *16.00* "Derivation and characterisation of Intestinal organoid fr
 om human pluripotent stem cell"\, *Ludovic Vallier* Wellcome Trust - MRC S
 tem Cell Institute and Wellcome Trust Sanger Institute	\n* *16.40 Closing 
 Remarks* - Matthias Zilbauer\n
LOCATION:The Graham Storey Room\, Trinity Hall
END:VEVENT
END:VCALENDAR
