BEGIN:VCALENDAR
VERSION:2.0
PRODID:-//Talks.cam//talks.cam.ac.uk//
X-WR-CALNAME:Talks.cam
BEGIN:VEVENT
SUMMARY:Sound Waves in the Intracluster Medium - Stanislav Shabala\, Caven
 dish Astrophysics
DTSTART:20070221T111500Z
DTEND:20070221T113000Z
UID:TALK6532@talks.cam.ac.uk
CONTACT:John Young
DESCRIPTION:Abstract not available
LOCATION:Ryle Seminar Room\, Rutherford Building\, Cavendish Laboratory\, 
 Department of Physics
END:VEVENT
END:VCALENDAR
