BEGIN:VCALENDAR
VERSION:2.0
PRODID:-//Talks.cam//talks.cam.ac.uk//
X-WR-CALNAME:Talks.cam
BEGIN:VEVENT
SUMMARY:Iterative methods for coupled flow and geomechanics problems - Kun
 dan Kumar (Universitetet i Bergen)
DTSTART:20160407T131500Z
DTEND:20160407T143000Z
UID:TALK65371@talks.cam.ac.uk
CONTACT:INI IT
DESCRIPTION:
LOCATION:Seminar Room 2\, Newton Institute
END:VEVENT
END:VCALENDAR
