BEGIN:VCALENDAR
VERSION:2.0
PRODID:-//Talks.cam//talks.cam.ac.uk//
X-WR-CALNAME:Talks.cam
BEGIN:VEVENT
SUMMARY:Improving techniques and technology for cellular and molecular pat
 hology         - Speaker to be confirmed
DTSTART:20161129T090000Z
DTEND:20161129T170000Z
UID:TALK65382@talks.cam.ac.uk
CONTACT:Speaker to be confirmed
DESCRIPTION:This event will share best practice\, and discuss new\nand imp
 roved methodologies for the cellular and molecular analysis of disease.\n
LOCATION:Online
END:VEVENT
END:VCALENDAR
