BEGIN:VCALENDAR
VERSION:2.0
PRODID:-//Talks.cam//talks.cam.ac.uk//
X-WR-CALNAME:Talks.cam
BEGIN:VEVENT
SUMMARY:Transplanting the untransplantable - Prof Chris Watson
DTSTART:20160511T123000Z
DTEND:20160511T130000Z
UID:TALK65438@talks.cam.ac.uk
CONTACT:Vicky Clarke
DESCRIPTION:Specialist Lead: \nDr Menna Clatworthy\n\nLead Consultant:\n\n
 Presenter: Prof Chris Watson\n\n“Transplanting the untransplantable”\n
 \nTransplantation\n
LOCATION:William Harvey Lecture Theatre
END:VEVENT
END:VCALENDAR
