BEGIN:VCALENDAR
VERSION:2.0
PRODID:-//Talks.cam//talks.cam.ac.uk//
X-WR-CALNAME:Talks.cam
BEGIN:VEVENT
SUMMARY:Kierkegaard &amp\; Copenhagen: From Genius in a Market-Town or Phi
 losopher-Flâneur - George Pattison (Theology\; University of Oxford)
DTSTART:20070227T171500Z
DTEND:20070227T183000Z
UID:TALK6544@talks.cam.ac.uk
CONTACT:5045
DESCRIPTION:Abstract not available
LOCATION:CRASSH\, 17 Mill Lane\, Cambridge\, CB2 1RX
END:VEVENT
END:VCALENDAR
