BEGIN:VCALENDAR
VERSION:2.0
PRODID:-//Talks.cam//talks.cam.ac.uk//
X-WR-CALNAME:Talks.cam
BEGIN:VEVENT
SUMMARY:Modeling of Graphene-Based Photonic Devices - Prof. Andrea Locatel
 li\, University of Brescia\, Italy
DTSTART:20160610T150000Z
DTEND:20160610T160000Z
UID:TALK65808@talks.cam.ac.uk
CONTACT:Dr Stephen A. Hodge
DESCRIPTION:Abstract not available
LOCATION:Cambridge Graphene Centre\, 9 JJ Thomson Avenue\, Cambridge CB3 O
 FA\, UK
END:VEVENT
END:VCALENDAR
