BEGIN:VCALENDAR
VERSION:2.0
PRODID:-//Talks.cam//talks.cam.ac.uk//
X-WR-CALNAME:Talks.cam
BEGIN:VEVENT
SUMMARY:The history of mapping the railway - David Milbank Challis &amp\; 
 Andy Rush\, Industrialogical Associates\, Railway Record of the British Is
 les
DTSTART:20070220T173000Z
DTEND:20070220T190000Z
UID:TALK6609@talks.cam.ac.uk
CONTACT:Sarah Bendall
DESCRIPTION:Abstract not available
LOCATION:Emmanuel College (Robert Gardner Room)
END:VEVENT
END:VCALENDAR
