BEGIN:VCALENDAR
VERSION:2.0
PRODID:-//Talks.cam//talks.cam.ac.uk//
X-WR-CALNAME:Talks.cam
BEGIN:VEVENT
SUMMARY:Gaussian Process Belief Propagation - Speaker to be confirmed
DTSTART:20070205T123000Z
DTEND:20070205T133000Z
UID:TALK6625@talks.cam.ac.uk
CONTACT:Oliver Stegle
DESCRIPTION:http://www.kyb.tuebingen.mpg.de/bs/people/seeger/papers/gpbp.p
 df
LOCATION:TCM Seminar Room\, Cavendish Laboratory\, Department of Physics
END:VEVENT
END:VCALENDAR
