BEGIN:VCALENDAR
VERSION:2.0
PRODID:-//Talks.cam//talks.cam.ac.uk//
X-WR-CALNAME:Talks.cam
BEGIN:VEVENT
SUMMARY:Anti-Gravity - Jörg ( Henri) Storm
DTSTART:20160522T230000Z
DTEND:20160522T230000Z
UID:TALK66351@talks.cam.ac.uk
CONTACT:Henri
DESCRIPTION:Anti-gravity generated by visible matter . It is the causal pr
 operty of matter . It acts despite the stronger gravitational effect on Ea
 rth. \n\nFurther theory\nThe gravitational effect is generated not only by
  matter\, but by matter in revolutions per unit time around its central ax
 is .\n\nHi Guys !\n\n9 years ago\, I created 2 theories that mass / matter
  causes a causal property anti-gravity\, so repulsive effect. These anti-g
 ravity is of course less than the effect of gravity\, which produced natur
 ally as the earth. For the development and size of the gravitational effec
 ts of the planets and stars in my opinion\, not only the mass is responsib
 le\, but the number of revolutions per unit time to themselves\, ie the ro
 tation around its own axis of celestial bodies\, including Earth.\nIn orde
 r to prove the anti-gravity of mass / matter\, I have built 2 experiments\
 , and in both experiments showed that the thesis of causal anti-gravity of
  masses is correct.\nIn the first experiment\, I took a distance meter. I 
 placed it on a table and right in front of the sensor I hung to 2 threads 
 a brass nut. Then I measured the (very small) distance between distance me
 ter and brass nut. Then I turned a heavy steel ball in behind the brass nu
 t and the distance between the sensor and brass nut decreased. Only when I
  turned away\, the steel ball again\, the distance between distance meter 
 and brass nut enlarged again. Result: Anti-gravity!\n\nVideo 1 https://www
 .youtube.com/watch?v=Dfr5WL6jVdI&feature=youtu.be\n\nThis experiment I rep
 eated (better than a table) on a concrete floor in order to prevent irregu
 larities in relation to the screwing of the steel ball can. The result was
  the same.\n\nVideo 2 https://www.youtube.com/watch?v=Q1iL5bBMKFg&feature=
 youtu.be\n\n\nThat's why I built the second experiment\, the Cavendish tor
 sion balance in a simple form. Since I as already mentioned by a causal an
 ti-gravitational masses go out to this would be detected even with the exp
 eriment of Cavendish. And it works well. But you have to ensure shield the
  -despite the gravitational effect of the Earth permanently existing cause
  repelling effect of the earth of the experimental setup. I have done this
  in the experiment with a galvanized steel plate which was additionally co
 ated with a mat made of lead. Besides\, I have also shielded the sides of 
 the experiment with an upstanding lead mat. And when you perform the exper
 iment of Cavendish\, then the weights move in the opposite way than one wo
 uld expect it\, when you would go out of attractive gravitational action o
 f masses to one another.\n\nVideo 3 https://www.youtube.com/watch?v=MHjjlv
 Wd7dA\n\nThere is also another video 4\, but which is not me so well\n\nVi
 deo 4 https://www.youtube.com/watch?v=eaWdanVUFJU&feature=youtu.be\n\nI wo
 uld now very grateful if someone would be in range of a Cavendish torsion 
 balance\, which is also shielded by at least one lead mat down and to the 
 side while you perform the test with respect to the gravitational constant
 . Even then will show that the causal effect of mass / matter exhibits a r
 epelling effect\, ie anti-gravity. Should I lack of understanding\, I will
  still try to a try in the Asian Internet - then I'll stop. If Sir Isaac N
 ewton physics is inviolable in religion\, it's how it is. Fanatical believ
 er you can not teach by several experiments.\n\nThank you so much !\n\nGre
 etings\n\nJörg (Henri) Storm
LOCATION:Germany
END:VEVENT
END:VCALENDAR
