BEGIN:VCALENDAR
VERSION:2.0
PRODID:-//Talks.cam//talks.cam.ac.uk//
X-WR-CALNAME:Talks.cam
BEGIN:VEVENT
SUMMARY:Fellowship application seminar - Graham Dransfield (Chem Eng)\; Re
 nata Schaeffer (Research Office)
DTSTART:20160610T143000Z
DTEND:20160610T163000Z
UID:TALK66400@talks.cam.ac.uk
CONTACT:38431
DESCRIPTION:We are all depending on different funding sources to do our ex
 citing research. And a lot of us are working on fellowship or are involved
  in funding applications. So\, you are probably wondering what is really i
 mportant in the application process\, and how is your applications evaluat
 ed?\n\nThe seminar will concentrate on two European funding opportunities\
 , the Marie-Curie fellowship and the Horizon-2020 program.   \n\n· Graham
  Dransfield\, who is a research facilitator at Chem Eng and evaluates Mari
 e Curie fellowship applications\, will talk about the application process 
 and give us some of his insights.\n\n· Renata Schaeffer from the Research
  Office deals with European applications and will talk about Horizon-2020 
 applications and relevant points for postdocs.\n\nThe seminar is open to p
 ostdocs and 3rd year PhD students (from Plant Sciences and SLCU). Please\,
  register for the seminar using the doodle poll link: http://doodle.com/po
 ll/v4m95ed23iiiztb8\n\nPlease register for it by Wednesday\, June 8th to h
 elp us with the organisation of coffee and cakes. We will organise a beer 
 hour afterwards\, so people have a chance to continue discussions and shar
 e their experiences. \n\nIf you have any questions please contact Katrin (
 kg404@ cam.ac.uk).
LOCATION:Tom ap Rees\, Department of Plant Sciences
END:VEVENT
END:VCALENDAR
