BEGIN:VCALENDAR
VERSION:2.0
PRODID:-//Talks.cam//talks.cam.ac.uk//
X-WR-CALNAME:Talks.cam
BEGIN:VEVENT
SUMMARY:A global perspective on conflict and cooperation in animal mating 
 systems - Simon Griffith\, Macquarie University\, Sydney
DTSTART:20160621T150000Z
DTEND:20160621T160000Z
UID:TALK66558@talks.cam.ac.uk
CONTACT:Dieter Lukas
DESCRIPTION:Abstract not available
LOCATION:First Floor Seminar Room\, Department of Zoology
END:VEVENT
END:VCALENDAR
