BEGIN:VCALENDAR
VERSION:2.0
PRODID:-//Talks.cam//talks.cam.ac.uk//
X-WR-CALNAME:Talks.cam
BEGIN:VEVENT
SUMMARY:Funder requirements for sharing research? Learn how to easily comp
 ly and get the most out of it: Open Access and Data sharing seminar - Spea
 ker to be confirmed
DTSTART:20160714T150000Z
DTEND:20160714T160000Z
UID:TALK66821@talks.cam.ac.uk
CONTACT:38431
DESCRIPTION:Have you heard about funders’ requirements for sharing your 
 research? Don’t panic – the University has developed systems to help y
 ou get the most out of it.\n\n \n\nCome to the dedicated information sessi
 on organised for you on Thursday 14 July\, 16.00 – 17.00 in the Large Le
 cture Theatre (Plant Sciences\, Downing site) to get to know your funders
 ’ requirements and easy ways of complying with them. Most importantly\, 
 we will also show you how this can benefit your academic career.\n\n \n\nE
 veryone from Plant Sciences and SLCU is welcome:\n\n- principal investigat
 ors\n\n- postdocs\n\n- research staff\n\n- students\n\n- administrative st
 aff
LOCATION:Department of Plant Sciences\, Large Lecture Theatre
END:VEVENT
END:VCALENDAR
