BEGIN:VCALENDAR
VERSION:2.0
PRODID:-//Talks.cam//talks.cam.ac.uk//
X-WR-CALNAME:Talks.cam
BEGIN:VEVENT
SUMMARY:Title TBC - Professor Rebecca Steorts\, Duke University
DTSTART:20160913T133000Z
DTEND:20160913T143000Z
UID:TALK67161@talks.cam.ac.uk
CONTACT:Alison Quenault
DESCRIPTION:TBC
LOCATION:Large  Seminar Room\, 1st Floor\, Institute of Public Health\, Un
 iversity Forvie Site\, Robinson Way\, Cambridge
END:VEVENT
END:VCALENDAR
