BEGIN:VCALENDAR
VERSION:2.0
PRODID:-//Talks.cam//talks.cam.ac.uk//
X-WR-CALNAME:Talks.cam
BEGIN:VEVENT
SUMMARY:Data Driven Discrete Time Modeling of Continuous Time Nonlinear Sy
 stems: Problems\, Challenges\, Success Stories - Johan Schoukens\, Vrije U
 niversiteit Brussel
DTSTART:20160902T100000Z
DTEND:20160902T110000Z
UID:TALK67340@talks.cam.ac.uk
CONTACT:Carl Edward Rasmussen
DESCRIPTION:In the first part\,  an introduction to nonlinear identificati
 on is given: How to recognize the presence of nonlinear distortions? How t
 o decide between a linear or a nonlinear identification approach? Illustra
 tion on a ground vibration test of a  F16 airfighter.\n \nIn the second pa
 rt\, a series of (open) problems and challenges in nonlinear system identi
 fication is discussed: experiment design\, choice of the model\, choice of
  the cost function.\n \nEventually\, an illustration  is given on the iden
 tification of the short-term electrical response of a Li-ion Battery.
LOCATION:CBL Room BE-438
END:VEVENT
END:VCALENDAR
