BEGIN:VCALENDAR
VERSION:2.0
PRODID:-//Talks.cam//talks.cam.ac.uk//
X-WR-CALNAME:Talks.cam
BEGIN:VEVENT
SUMMARY:Cenozoic Uplift of Europe from Linear Inverse Modelling of River P
 rofiles - Fergus McNab (University of Cambridge)
DTSTART:20161104T160000Z
DTEND:20161104T170000Z
UID:TALK67361@talks.cam.ac.uk
CONTACT:John Rudge
DESCRIPTION:Abstract not available
LOCATION:Tea Room\, Old House
END:VEVENT
END:VCALENDAR
